Workbook

Sheet Distrib. Pricing Only Full
A1: Material | B1: Material | C1: Material Description | D1: Material Long Description | E1: MTyp | F1: Division 02 = MIS | G1: SAP Availability (status) | H1: Item Excluded for Sale in Region or Country (country blocks are in place in SAP) | I1: US Re-export Control | J1: Flag for Dual Use | K1: Product Hierarchy = BSS Code | L1: Business Segment | M1: Product Material Type | N1: Product Category | O1: Product Hierarchy | P1: Standard Lead Time (workings days from order intake until dispatch - transit time is not included) | Q1: Price Change Valid From date | R1: price or availability change? | S1: price or availability change comment | T1: Current FY2026 List Price (EUR) (as of 16.06.2026 except if date different in column Q) | U1: Distributor Price List: Buch & Holm A/S SAP Number: 2000568978 Region/Country: NWE/Denmark Currency: EUR | V1: EMEA List Price Discount % | W1: Distributor Cluster Markdown Group | X1: Code number | Y1: Country of Orig | Z1: Item Serialized? | AA1: Erstattet af
A2: 030000 | B2: 30000 | C2: LIEDER SLIDE BOX | D2: Lieder slide box | E2: HAWA | F2: 02 | G2: available | K2: 100210951095 | L2: Microscope Finished Goods | M2: Regional/Local use | N2: Regional use | O2: Regional/Local use | P2: 22 | R2: no change | T2: 55 | U2: 28.6 | V2: 0.48 | W2: HAWA MIS Conventional | X2: 90230080000 | Y2: DE | Z2: no
A3: 030007 | B3: 30007 | C3: LENS CLEANING TISSUE | D3: Lens cleaning tissue, 100 pices, size: 125x75mm | E3: HAWA | F3: 02 | G3: available | K3: 100210069517 | L3: Microscope Finished Goods | M3: ACCESSORY | N3: ACCESSORY (B) | O3: TBD | P3: 2 | R3: no change | T3: 19 | U3: 9.88 | V3: 0.48 | W3: HAWA MIS Conventional | X3: 56031210900 | Y3: JP | Z3: no
A4: 030362 | B4: 30362 | C4: CK2-SS | D4: Stage extension plate for CK-, CKX- and IX-microscopes. | E4: HAWA | F4: 02 | G4: available | K4: 100210010605 | L4: Microscope Finished Goods | M4: MICROSCOPE | N4: ACCESSORY | O4: STAGE / FOCUSING UNIT | P4: 2 | R4: no change | T4: 54 | U4: 28.08 | V4: 0.48 | W4: HAWA MIS Conventional | X4: 90119000000 | Y4: JP | Z4: no
A5: 031194 | B5: 31194 | C5: CT-5 CENTERING TELESCOPE | D5: Centering telescope for phase contrast, diameter 23.5mm | E5: HAWA | F5: 02 | G5: available | K5: 100210010810 | L5: Microscope Finished Goods | M5: MICROSCOPE | N5: EYEPIECE LENS | O5: CENTERING TELESCOPE | P5: 2 | R5: no change | T5: 280 | U5: 145.6 | V5: 0.48 | W5: HAWA MIS Conventional | X5: 90029000900 | Y5: JP | Z5: no
A6: 031424 | B6: 31424 | C6: BH2-SH | D6: BH2-SH | E6: HAWA | F6: 02 | G6: available | K6: 100210010605 | L6: Microscope Finished Goods | M6: MICROSCOPE | N6: ACCESSORY | O6: STAGE / FOCUSING UNIT | P6: 2 | R6: no change | T6: 1524 | U6: 792.48 | V6: 0.48 | W6: HAWA MIS Conventional | X6: 90119000000 | Y6: JP | Z6: no
A7: 031701 | B7: 31701 | C7: CH2-DS DARKFIELD STOP | D7: Darkfield central stop for objectives up to NA 0.65 (only with CH2-FH or CX-AL) | E7: HAWA | F7: 02 | G7: available | K7: 100210010601 | L7: Microscope Finished Goods | M7: MICROSCOPE | N7: ACCESSORY | O7: PHOTO SYSTEM / FILTER SLIDER | P7: 2 | R7: no change | T7: 20 | U7: 10.4 | V7: 0.48 | W7: HAWA MIS Conventional | X7: 90119000000 | Y7: JP | Z7: no
A8: 031711 | B8: 31711 | C8: CH2-FH FILTER HOLDER | D8: Filter holder, for 32.5mm ø filters | E8: HAWA | F8: 02 | G8: available | K8: 100210010601 | L8: Microscope Finished Goods | M8: MICROSCOPE | N8: ACCESSORY | O8: PHOTO SYSTEM / FILTER SLIDER | P8: 2 | R8: no change | T8: 28 | U8: 14.56 | V8: 0.48 | W8: HAWA MIS Conventional | X8: 90119000000 | Y8: JP | Z8: no
A9: 032317 | B9: 32317 | C9: CK40M-AN | D9: Analyser for CK40M and GX41 | E9: HAWA | F9: 02 | G9: available | K9: 100210010609 | L9: Microscope Finished Goods | M9: MICROSCOPE | N9: ACCESSORY | O9: LAMP / FILTER | P9: 93 | R9: no change | T9: 679 | U9: 353.08 | V9: 0.48 | W9: HAWA MIS Conventional | X9: 90119000000 | Y9: JP | Z9: no
A10: 032441 | B10: 32441 | C10: BH2-WHR43 | D10: Rotatable wafer holder for 3" and 4" diameter wafers, for use with wafer holder base plate BH3-WHP6 | E10: HAWA | F10: 02 | G10: available | K10: 100210010605 | L10: Microscope Finished Goods | M10: MICROSCOPE | N10: ACCESSORY | O10: STAGE / FOCUSING UNIT | P10: 2 | R10: no change | T10: 772 | U10: 401.44 | V10: 0.48 | W10: HAWA MIS Conventional | X10: 90119000000 | Y10: JP | Z10: no
A11: 032443 | B11: 32443 | C11: BH2-WHR65 | D11: Rotatable wafer holder for 5" and 6" diameter wafers, for use with wafer holder base plate BH3-WHP6 | E11: HAWA | F11: 02 | G11: available | K11: 100210010605 | L11: Microscope Finished Goods | M11: MICROSCOPE | N11: ACCESSORY | O11: STAGE / FOCUSING UNIT | P11: 2 | R11: no change | T11: 669 | U11: 347.88 | V11: 0.48 | W11: HAWA MIS Conventional | X11: 90119000000 | Y11: JP | Z11: no
A12: 032445 | B12: 32445 | C12: BH3-WHP6 WAFER HOLDER | D12: Wafer holder base plate for 6x6" stage, accepts rotatable wafer holders that accommodate 3-6" wafers | E12: HAWA | F12: 02 | G12: available | K12: 100210010605 | L12: Microscope Finished Goods | M12: MICROSCOPE | N12: ACCESSORY | O12: STAGE / FOCUSING UNIT | P12: 20 | R12: no change | T12: 534 | U12: 277.68 | V12: 0.48 | W12: HAWA MIS Conventional | X12: 90119000000 | Y12: JP | Z12: no
A13: 032472 | B13: 32472 | C13: BH3-SP6 | D13: 6x6" Metal stage plate insert | E13: HAWA | F13: 02 | G13: available | K13: 100210010605 | L13: Microscope Finished Goods | M13: MICROSCOPE | N13: ACCESSORY | O13: STAGE / FOCUSING UNIT | P13: 20 | R13: no change | T13: 380 | U13: 197.6 | V13: 0.48 | W13: HAWA MIS Conventional | X13: 90119000000 | Y13: JP | Z13: no
... A24: 033639 | B24: 33639 | C24: 110AL0,62X | D24: Auxiliary lens, WD=160 | E24: HAWA | F24: 02 | G24: available | K24: 100210010751 | L24: Microscope Finished Goods | M24: MICROSCOPE | N24: OBJECTIVE LENS | O24: SZH-OB | P24: 2 | R24: no change | T24: 399 | U24: 207.48 | V24: 0.48 | W24: HAWA MIS Conventional | X24: 90021900000 | Y24: JP | Z24: no
A25: 033640 | B25: 33640 | C25: 110ALK-0,3X AUXILIARY LENS | D25: Auxiliary lens, NA 0.006-0.020, WD=250-350 | E25: HAWA | F25: 02 | G25: stock sellout | K25: 100210010751 | L25: Microscope Finished Goods | M25: MICROSCOPE | N25: OBJECTIVE LENS | O25: SZH-OB | P25: 20 | R25: availability | S25: discontinued (stock sellout) - item available until inventory depleted | T25: 329 | U25: 171.08 | V25: 0.48 | W25: HAWA MIS Conventional | X25: 90021900000 | Y25: JP | Z25: no
A26: 033641 | B26: 33641 | C26: 110ALK-0,4X | D26: Auxiliary lens, NA 0.008-0.027, WD=180-250 | E26: HAWA | F26: 02 | G26: available | K26: 100210010751 | L26: Microscope Finished Goods | M26: MICROSCOPE | N26: OBJECTIVE LENS | O26: SZH-OB | P26: 20 | R26: no change | T26: 314 | U26: 163.28 | V26: 0.48 | W26: HAWA MIS Conventional | X26: 90021900000 | Y26: JP | Z26: no
A27: 033644 | B27: 33644 | C27: 110AL-1,5X AUXILIARY LENS | D27: Auxiliary lens, NA 0.029-0.10, WD=61 | E27: HAWA | F27: 02 | G27: available | K27: 100210010751 | L27: Microscope Finished Goods | M27: MICROSCOPE | N27: OBJECTIVE LENS | O27: SZH-OB | P27: 2 | R27: no change | T27: 220 | U27: 114.4 | V27: 0.48 | W27: HAWA MIS Conventional | X27: 90021900000 | Y27: JP | Z27: no
A28: 033721 | B28: 33721 | C28: SZX-PO POLARIZER | D28: Polarizer for SZX transmitted light stands, to be insert under glass stage plate | E28: HAWA | F28: 02 | G28: available | K28: 100210010609 | L28: Microscope Finished Goods | M28: MICROSCOPE | N28: ACCESSORY | O28: LAMP / FILTER | P28: 20 | R28: no change | T28: 185 | U28: 96.2 | V28: 0.48 | W28: HAWA MIS Conventional | X28: 90119000000 | Y28: JP | Z28: no
A29: 033723 | B29: 33723 | C29: SZX-AS APERTURE STOP DIAPHRAGM | D29: Aperture stop for SZX9, double iris diaphragm for contrast control, 20mm height, front slider control | E29: HAWA | F29: 02 | G29: available | K29: 100210010602 | L29: Microscope Finished Goods | M29: MICROSCOPE | N29: ACCESSORY | O29: Intermediate Tube | P29: 2 | R29: no change | T29: 522 | U29: 271.44 | V29: 0.48 | W29: HAWA MIS Conventional | X29: 90119000000 | Y29: JP | Z29: no
A30: 033726 | B30: 33726 | C30: SZX-EPA | D30: Eyepoint adjuster for SZX, raises eyepoint position 40mm, up to two pieces can be stacked in the absence of other intermediate tubes | E30: HAWA | F30: 02 | G30: available | K30: 100210010602 | L30: Microscope Finished Goods | M30: MICROSCOPE | N30: ACCESSORY | O30: Intermediate Tube | P30: 2 | R30: no change | T30: 269 | U30: 139.88 | V30: 0.48 | W30: HAWA MIS Conventional | X30: 90029000900 | Y30: JP | Z30: no
A31: 033731 | B31: 33731 | C31: SZX-R STOPPER RING F. SZX-STL | D31: Retaining collar, safety collar to secure SZX-FO and SZX-FOF focus mounts on 400mm pillar and 600mm pillar | E31: HAWA | F31: 02 | G31: available | K31: 100210010640 | L31: Microscope Finished Goods | M31: MICROSCOPE | N31: ACCESSORY | O31: STAND | P31: 2 | R31: no change | T31: 112 | U31: 58.24 | V31: 0.48 | W31: HAWA MIS Conventional | X31: 90119000000 | Y31: JP | Z31: no
A32: 033734 | B32: 33734 | C32: SZX-STAD1 *BTS* | D32: Stage adapter type 1, required for mounting BX circular stages U-SRG and U-SRP on stereo stands, stage surface is raised 44mm from standard stage plate surface, 400mm pillar and SZX-R retaining collar or SZ2-ET are recommended | E32: HAWA | F32: 02 | G32: available | K32: 100210010640 | L32: Microscope Finished Goods | M32: MICROSCOPE | N32: ACCESSORY | O32: STAND | P32: 68 | R32: no change | T32: 161 | U32: 83.72 | V32: 0.48 | W32: HAWA MIS Conventional | X32: 90119000000 | Y32: JP | Z32: no
A33: 033735 | B33: 33735 | C33: SZX-STAD2 STAGE ADAPTOR F.U-SI | D33: Stage adapter type 2, required for mounting U-SIC4 stage on stereo stands, stage surface is raised 124mm from standard stage plate surface, incl. adjustable transmitted light mirror, 400mm or 600mm pillar and SZX-R are required | E33: HAWA | F33: 02 | G33: available | K33: 100210010640 | L33: Microscope Finished Goods | M33: MICROSCOPE | N33: ACCESSORY | O33: STAND | P33: 2 | R33: no change | T33: 411 | U33: 213.72 | V33: 0.48 | W33: HAWA MIS Conventional | X33: 90119000000 | Y33: JP | Z33: no
A34: 033745 | B34: 33745 | C34: SZX-CCV | D34: UV-cut plate, to protect against UV-radiation if a high intensity light source (xenon or mercury discharge lamp) is used. | E34: HAWA | F34: 02 | G34: available | K34: 100210010660 | L34: Microscope Finished Goods | M34: MICROSCOPE | N34: ACCESSORY | O34: BIOLOGICAL NOSEPIECE FOCUS | P34: 80 | R34: no change | T34: 335 | U34: 174.2 | V34: 0.48 | W34: HAWA MIS Conventional | X34: 90022000000 | Y34: JP | Z34: no
A35: 033769 | B35: 33769 | C35: SZX-ACH1X OBJECTIVE F. SZX9 | D35: Achromat stereo objective for SZX7 and SZX10. Magnification 1x, numerical aperture 0.11, working distance 90 mm. | E35: HAWA | F35: 02 | G35: stock sellout | K35: 100210010752 | L35: Microscope Finished Goods | M35: MICROSCOPE | N35: OBJECTIVE LENS | O35: SZX-OB | P35: 2 | R35: availability | S35: discontinued (stock sellout) - item available until inventory depleted | T35: 399 | U35: 207.48 | V35: 0.48 | W35: HAWA MIS Conventional | X35: 90021900000 | Y35: JP | Z35: no
A36: 033774 | B36: 33774 | C36: SZX-RFA | D36: Coaxial reflected light illuminator, four-positioned filter slider with one position for transmitted light observation and three positions for reflected light Fluorescence, integrated protection against scattering, 3-positioned slider (0%/ND25/100%) on light entry, SZX-fluorescence filter cubes must be ordered additionally (033775 ? 033779) | E36: HAWA | F36: 02 | G36: available | K36: 100210010656 | L36: Microscope Finished Goods | M36: MICROSCOPE | N36: ACCESSORY | O36: FLUORESCENCE ATTACHMENT | P36: 20 | R36: no change | T36: 3870 | U36: 2012.4 | V36: 0.48 | W36: HAWA MIS Conventional | X36: 90022000000 | Y36: JP | Z36: no
A37: 033775 | B37: 33775 | C37: SZX-MGFP CUBE F.GFP-EX475,EM51 | D37: Filter set for GFP excitation of SZX-RFA, exciter filter BP460-490, dichroic mirror DM505, barrier filter BA510IF | E37: HAWA | F37: 02 | G37: available | K37: 100210010618 | L37: Microscope Finished Goods | M37: MICROSCOPE | N37: ACCESSORY | O37: FLUORESCENCE CUBE | P37: 20 | R37: no change | T37: 3512 | U37: 1826.24 | V37: 0.48 | W37: HAWA MIS Conventional | X37: 90022000000 | Y37: JP | Z37: no
A38: 033776 | B38: 33776 | C38: SZX-MGFPA *BTS* | D38: Filter set for GFP excitation of SZX-RFA, exciter filter BP460-490, dichroic mirror DM505, barrier filter BA510-550 | E38: HAWA | F38: 02 | G38: available | K38: 100210010618 | L38: Microscope Finished Goods | M38: MICROSCOPE | N38: ACCESSORY | O38: FLUORESCENCE CUBE | P38: 20 | R38: no change | T38: 3777 | U38: 1964.04 | V38: 0.48 | W38: HAWA MIS Conventional | X38: 90022000000 | Y38: JP | Z38: no
A39: 033782 | B39: 33782 | C39: SP-FL FL | D39: Stage plate set incl. black stage plate, low auto-fluorescent glass stage plate and stage plate adapter | E39: HAWA | F39: 02 | G39: available | K39: 100210010605 | L39: Microscope Finished Goods | M39: MICROSCOPE | N39: ACCESSORY | O39: STAGE / FOCUSING UNIT | P39: 20 | R39: no change | T39: 206 | U39: 107.12 | V39: 0.48 | W39: HAWA MIS Conventional | X39: 90119000000 | Y39: JP | Z39: no
A40: 033826 | B40: 33826 | C40: SZH-P400 PILLAR | D40: Pillar 400mm | E40: HAWA | F40: 02 | G40: available | K40: 100210010640 | L40: Microscope Finished Goods | M40: MICROSCOPE | N40: ACCESSORY | O40: STAND | P40: 2 | R40: no change | T40: 143 | U40: 74.36 | V40: 0.48 | W40: HAWA MIS Conventional | X40: 90119000000 | Y40: JP | Z40: no
A41: 033828 | B41: 33828 | C41: SZH-P600 PILLAR | D41: Pillar 600mm | E41: HAWA | F41: 02 | G41: available | K41: 100210010640 | L41: Microscope Finished Goods | M41: MICROSCOPE | N41: ACCESSORY | O41: STAND | P41: 2 | R41: no change | T41: 228 | U41: 118.56 | V41: 0.48 | W41: HAWA MIS Conventional | X41: 90119000000 | Y41: JP | Z41: no
A42: 033860 | B42: 33860 | C42: SZH-SG GLIDING STAGE | D42: Gliding stage | E42: HAWA | F42: 02 | G42: available | K42: 100210010605 | L42: Microscope Finished Goods | M42: MICROSCOPE | N42: ACCESSORY | O42: STAGE / FOCUSING UNIT | P42: 20 | R42: no change | T42: 323 | U42: 167.96 | V42: 0.48 | W42: HAWA MIS Conventional | X42: 90119000000 | Y42: JP | Z42: no
A43: 033861 | B43: 33861 | C43: SZH-SC | D43: Cup stage | E43: HAWA | F43: 02 | G43: available | K43: 100210010605 | L43: Microscope Finished Goods | M43: MICROSCOPE | N43: ACCESSORY | O43: STAGE / FOCUSING UNIT | P43: 2 | R43: no change | T43: 525 | U43: 273 | V43: 0.48 | W43: HAWA MIS Conventional | X43: 90119000000 | Y43: JP | Z43: no
A44: 033862 | B44: 33862 | C44: SZH-STAD1 STAGE ADAPTOR | D44: Stage adapter for BH2-SH | E44: HAWA | F44: 02 | G44: available | K44: 100210010640 | L44: Microscope Finished Goods | M44: MICROSCOPE | N44: ACCESSORY | O44: STAND | P44: 2 | R44: no change | T44: 178 | U44: 92.56 | V44: 0.48 | W44: HAWA MIS Conventional | X44: 90119000000 | Y44: JP | Z44: no
A45: 035013 | B45: 35013 | C45: 19-SQUARE 10/10X10 EYEP.M | D45: Eyepiece grid micrometer, 10x10mm/10 ticks, 19mm ø | E45: HAWA | F45: 02 | G45: available | K45: 100210069001 | L45: Microscope Finished Goods | M45: ACCESSORY | N45: ACCESSORY (A) | O45: TBD | P45: 27 | R45: no change | T45: 55 | U45: 28.6 | V45: 0.48 | W45: HAWA MIS Conventional | X45: 90173000000 | Y45: JP | Z45: no
A46: 035037 | B46: 35037 | C46: OB-M STAGE MICROMETER | D46: Stage micrometer for transmitted light, 1mm/100 ticks | E46: HAWA | F46: 02 | G46: available | K46: 100210069001 | L46: Microscope Finished Goods | M46: ACCESSORY | N46: ACCESSORY (A) | O46: TBD | P46: 2 | R46: no change | T46: 102 | U46: 53.04 | V46: 0.48 | W46: HAWA MIS Conventional | X46: 90173000000 | Y46: JP | Z46: no
A47: 035038 | B47: 35038 | C47: OB-MM STAGE MICROMETER | D47: Stage micrometer for reflected light, 1mm/100 ticks | E47: HAWA | F47: 02 | G47: available | K47: 100210069001 | L47: Microscope Finished Goods | M47: ACCESSORY | N47: ACCESSORY (A) | O47: TBD | P47: 2 | R47: no change | T47: 171 | U47: 88.92 | V47: 0.48 | W47: HAWA MIS Conventional | X47: 90173000000 | Y47: JP | Z47: no
... A126: 037156 | B126: 37156 | C126: U-BMAD | D126: Bayonet mount adapter | E126: HAWA | F126: 02 | G126: available | K126: 100210010602 | L126: Microscope Finished Goods | M126: MICROSCOPE | N126: ACCESSORY | O126: Intermediate Tube | P126: 63 | R126: no change | T126: 192 | U126: 99.84 | V126: 0.48 | W126: HAWA MIS Conventional | X126: 90119000000 | Y126: JP | Z126: no
A127: 037159 | B127: 37159 | C127: U-SMAD SONY MOUNT ADAPTOR | D127: Bayonet mount adapter for Sony ½" CCD camera | E127: HAWA | F127: 02 | G127: stock sellout | K127: 100210010602 | L127: Microscope Finished Goods | M127: MICROSCOPE | N127: ACCESSORY | O127: Intermediate Tube | P127: No Replenishment | R127: no change | T127: 224 | U127: 116.48 | V127: 0.48 | W127: HAWA MIS Conventional | X127: 90119000000 | Y127: JP | Z127: no
A128: 037160 | B128: 37160 | C128: U-TMAD | D128: T-mount adapter | E128: HAWA | F128: 02 | G128: available | K128: 100210010602 | L128: Microscope Finished Goods | M128: MICROSCOPE | N128: ACCESSORY | O128: Intermediate Tube | P128: 2 | R128: no change | T128: 224 | U128: 116.48 | V128: 0.48 | W128: HAWA MIS Conventional | X128: 90119000000 | Y128: JP | Z128: no
...

Sheet Stamou Lab, Ixplore
A1: Item no. | B1: EA | C1: Description | D1: Evident list price | E1: Evident price total | F1: Evident discount | G1: Evident sales price | H1: BH List price | I1: Discount | J1: BH Purchase, EUR | K1: BH purchase price, DKK | L1: BH purchase price, with external at direct pricing, net
A2: N6398900 | B2: 1 | C2: =VLOOKUP(A2,'Distrib. Pricing Only Full'!A:W,3,FALSE) -> IX83P2ZF-1-3 2port w. ZDC port | D2: 139368 | E2: =B2*D2 -> 139368 | F2: 27 | G2: =B2*D2*(100-F2)/100 -> 101738.64 | H2: =VLOOKUP(A2,'Distrib. Pricing Only Full'!A:W,20,FALSE) -> 17636 | I2: =VLOOKUP(A2,'Distrib. Pricing Only Full'!A:X,22,FALSE) -> 0.48 | J2: =VLOOKUP(A2,'Distrib. Pricing Only Full'!A:Y,21,FALSE) -> 9170.72 | K2: =J2*7.44*B2 -> 68230.157 | L2: =K2 -> 68230.157
A3: N4233900 | B3: 1 | C3: =VLOOKUP(A3,'Distrib. Pricing Only Full'!A:W,3,FALSE) -> IX3-CBH Control box | D3: 50239 | E3: =B3*D3 -> 50239 | F3: 27 | G3: =B3*D3*(100-F3)/100 -> 36674.47 | H3: =VLOOKUP(A3,'Distrib. Pricing Only Full'!A:W,20,FALSE) -> 6227 | I3: =VLOOKUP(A3,'Distrib. Pricing Only Full'!A:X,22,FALSE) -> 0.48 | J3: =VLOOKUP(A3,'Distrib. Pricing Only Full'!A:Y,21,FALSE) -> 3238.04 | K3: =J3*7.44*B3 -> 24091.018 | L3: =K3 -> 24091.018
A4: N2758600 | B4: 1 | C4: =VLOOKUP(A4,'Distrib. Pricing Only Full'!A:W,3,FALSE) -> C1394A Firewire Kabel | D4: 642 | E4: =B4*D4 -> 642 | F4: 27 | G4: =B4*D4*(100-F4)/100 -> 468.66 | H4: =VLOOKUP(A4,'Distrib. Pricing Only Full'!A:W,20,FALSE) -> 81 | I4: =VLOOKUP(A4,'Distrib. Pricing Only Full'!A:X,22,FALSE) -> 0.48 | J4: =VLOOKUP(A4,'Distrib. Pricing Only Full'!A:Y,21,FALSE) -> 42.12 | K4: =J4*7.44*B4 -> 313.3728 | L4: =K4 -> 313.3728
A5: N5205500 | B5: 1 | C5: =VLOOKUP(A5,'Distrib. Pricing Only Full'!A:W,3,FALSE) -> U-MCZ-1-2 control unit | D5: 8556 | E5: =B5*D5 -> 8556 | F5: 27 | G5: =B5*D5*(100-F5)/100 -> 6245.88 | H5: =VLOOKUP(A5,'Distrib. Pricing Only Full'!A:W,20,FALSE) -> 1084 | I5: =VLOOKUP(A5,'Distrib. Pricing Only Full'!A:X,22,FALSE) -> 0.48 | J5: =VLOOKUP(A5,'Distrib. Pricing Only Full'!A:Y,21,FALSE) -> 563.68 | K5: =J5*7.44*B5 -> 4193.7792 | L5: =K5 -> 4193.7792
A6: N5727300 | B6: 1 | C6: =VLOOKUP(A6,'Distrib. Pricing Only Full'!A:W,3,FALSE) -> U-IFCBL200-1-2 intface cbl 2 m | D6: 2123 | E6: =B6*D6 -> 2123 | F6: 27 | G6: =B6*D6*(100-F6)/100 -> 1549.79 | H6: =VLOOKUP(A6,'Distrib. Pricing Only Full'!A:W,20,FALSE) -> 270 | I6: =VLOOKUP(A6,'Distrib. Pricing Only Full'!A:X,22,FALSE) -> 0.48 | J6: =VLOOKUP(A6,'Distrib. Pricing Only Full'!A:Y,21,FALSE) -> 140.4 | K6: =J6*7.44*B6 -> 1044.576 | L6: =K6 -> 1044.576
A7: 035425 | B7: 15 | C7: =VLOOKUP(A7,'Distrib. Pricing Only Full'!A:W,3,FALSE) -> UYCP POWER CORD | D7: 127 | E7: =B7*D7 -> 1905 | F7: 27 | G7: =B7*D7*(100-F7)/100 -> 1390.65 | H7: =VLOOKUP(A7,'Distrib. Pricing Only Full'!A:W,20,FALSE) -> 18 | I7: =VLOOKUP(A7,'Distrib. Pricing Only Full'!A:X,22,FALSE) -> 0.25 | J7: =VLOOKUP(A7,'Distrib. Pricing Only Full'!A:Y,21,FALSE) -> 13.5 | K7: =J7*7.44*B7 -> 1506.6 | L7: =K7 -> 1506.6
A8: N4234100 | B8: 1 | C8: =VLOOKUP(A8,'Distrib. Pricing Only Full'!A:W,3,FALSE) -> #N/A | D8: 6628 | E8: =B8*D8 -> 6628 | F8: 27 | G8: =B8*D8*(100-F8)/100 -> 4838.44 | H8: =VLOOKUP(A8,'Distrib. Pricing Only Full'!A:W,20,FALSE) -> #N/A | I8: =VLOOKUP(A8,'Distrib. Pricing Only Full'!A:X,22,FALSE) -> #N/A | J8: =VLOOKUP(A8,'Distrib. Pricing Only Full'!A:Y,21,FALSE) -> #N/A | K8: =J8*7.44*B8 -> #N/A | L8: =K8 -> #N/A
A9: 035489 | B9: 1 | C9: =VLOOKUP(A9,'Distrib. Pricing Only Full'!A:W,3,FALSE) -> 002 DUST COVER F.MDOB | D9: 388 | E9: =B9*D9 -> 388 | F9: 27 | G9: =B9*D9*(100-F9)/100 -> 283.24 | H9: =VLOOKUP(A9,'Distrib. Pricing Only Full'!A:W,20,FALSE) -> 50 | I9: =VLOOKUP(A9,'Distrib. Pricing Only Full'!A:X,22,FALSE) -> 0.48 | J9: =VLOOKUP(A9,'Distrib. Pricing Only Full'!A:Y,21,FALSE) -> 26 | K9: =J9*7.44*B9 -> 193.44 | L9: =K9 -> 193.44
A10: N5692700 | B10: 1 | C10: =VLOOKUP(A10,'Distrib. Pricing Only Full'!A:W,3,FALSE) -> #N/A | D10: 9584 | E10: =B10*D10 -> 9584 | F10: 27 | G10: =B10*D10*(100-F10)/100 -> 6996.32 | H10: =VLOOKUP(A10,'Distrib. Pricing Only Full'!A:W,20,FALSE) -> #N/A | I10: =VLOOKUP(A10,'Distrib. Pricing Only Full'!A:X,22,FALSE) -> #N/A | J10: =VLOOKUP(A10,'Distrib. Pricing Only Full'!A:Y,21,FALSE) -> #N/A | K10: =J10*7.44*B10 -> #N/A | L10: =K10 -> #N/A
A11: N6439100 | B11: 1 | C11: =VLOOKUP(A11,'Distrib. Pricing Only Full'!A:W,3,FALSE) -> #N/A | D11: 24112 | E11: =B11*D11 -> 24112 | F11: 27 | G11: =B11*D11*(100-F11)/100 -> 17601.76 | H11: =VLOOKUP(A11,'Distrib. Pricing Only Full'!A:W,20,FALSE) -> #N/A | I11: =VLOOKUP(A11,'Distrib. Pricing Only Full'!A:X,22,FALSE) -> #N/A | J11: =VLOOKUP(A11,'Distrib. Pricing Only Full'!A:Y,21,FALSE) -> #N/A | K11: =J11*7.44*B11 -> #N/A | L11: =K11 -> #N/A
A12: N5663300 | B12: 1 | C12: =VLOOKUP(A12,'Distrib. Pricing Only Full'!A:W,3,FALSE) -> FV31-ILLSW Laser safety switch | D12: 5340 | E12: =B12*D12 -> 5340 | F12: 27 | G12: =B12*D12*(100-F12)/100 -> 3898.2 | H12: =VLOOKUP(A12,'Distrib. Pricing Only Full'!A:W,20,FALSE) -> 747 | I12: =VLOOKUP(A12,'Distrib. Pricing Only Full'!A:X,22,FALSE) -> 0.3 | J12: =VLOOKUP(A12,'Distrib. Pricing Only Full'!A:Y,21,FALSE) -> 522.9 | K12: =J12*7.44*B12 -> 3890.376 | L12: =K12 -> 3890.376
A13: N5211000 | B13: 1 | C13: =VLOOKUP(A13,'Distrib. Pricing Only Full'!A:W,3,FALSE) -> FV30-ILSW Laser interlock IX83 | D13: 2719 | E13: =B13*D13 -> 2719 | F13: 27 | G13: =B13*D13*(100-F13)/100 -> 1984.87 | H13: =VLOOKUP(A13,'Distrib. Pricing Only Full'!A:W,20,FALSE) -> 373 | I13: =VLOOKUP(A13,'Distrib. Pricing Only Full'!A:X,22,FALSE) -> 0.3 | J13: =VLOOKUP(A13,'Distrib. Pricing Only Full'!A:Y,21,FALSE) -> 261.1 | K13: =J13*7.44*B13 -> 1942.584 | L13: =K13 -> 1942.584
... A37: N6394900 | B37: 1 | C37: =VLOOKUP(A37,'Distrib. Pricing Only Full'!A:W,3,FALSE) -> CSUW1-T2SR-1-2 SD conf.scanner | D37: 1435440 | E37: =B37*D37 -> 1435440 | F37: 25 | G37: =B37*D37*(100-F37)/100 -> 1076580 | H37: =VLOOKUP(A37,'Distrib. Pricing Only Full'!A:W,20,FALSE) -> 242760 | I37: =VLOOKUP(A37,'Distrib. Pricing Only Full'!A:X,22,FALSE) -> 0.3 | J37: =VLOOKUP(A37,'Distrib. Pricing Only Full'!A:Y,21,FALSE) -> 169932 | K37: =J37*7.44*B37 -> 1264294.1 | L37: =K37 -> 1264294.1
A38: Filters, p.37 | B38: 1 | C38: =VLOOKUP(A38,'Distrib. Pricing Only Full'!A:W,3,FALSE) -> #N/A | D38: 88834 | E38: =B38*D38 -> 88834 | F38: 10 | G38: =B38*D38*(100-F38)/100 -> 79950.6 | H38: =VLOOKUP(A38,'Distrib. Pricing Only Full'!A:W,20,FALSE) -> #N/A | I38: =VLOOKUP(A38,'Distrib. Pricing Only Full'!A:X,22,FALSE) -> #N/A | J38: =VLOOKUP(A38,'Distrib. Pricing Only Full'!A:Y,21,FALSE) -> #N/A | K38: =J38*7.44*B38 -> #N/A | L38: 79950.6
A39: N5692800 | B39: 1 | C39: =VLOOKUP(A39,'Distrib. Pricing Only Full'!A:W,3,FALSE) -> #N/A | D39: 307200 | E39: =B39*D39 -> 307200 | F39: 27 | G39: =B39*D39*(100-F39)/100 -> 224256 | H39: =VLOOKUP(A39,'Distrib. Pricing Only Full'!A:W,20,FALSE) -> #N/A | I39: =VLOOKUP(A39,'Distrib. Pricing Only Full'!A:X,22,FALSE) -> #N/A | J39: =VLOOKUP(A39,'Distrib. Pricing Only Full'!A:Y,21,FALSE) -> #N/A | K39: =J39*7.44*B39 -> #N/A | L39: =K39 -> #N/A
A40: Custom laser, p.39 | B40: 1 | C40: =VLOOKUP(A40,'Distrib. Pricing Only Full'!A:W,3,FALSE) -> #N/A | D40: 231567 | E40: =B40*D40 -> 231567 | F40: 0 | G40: =B40*D40*(100-F40)/100 -> 231567 | H40: =VLOOKUP(A40,'Distrib. Pricing Only Full'!A:W,20,FALSE) -> #N/A | I40: =VLOOKUP(A40,'Distrib. Pricing Only Full'!A:X,22,FALSE) -> #N/A | J40: =VLOOKUP(A40,'Distrib. Pricing Only Full'!A:Y,21,FALSE) -> #N/A | K40: =J40*7.44*B40 -> #N/A | L40: 231567
A41: E0437015 | B41: 2 | C41: =VLOOKUP(A41,'Distrib. Pricing Only Full'!A:W,3,FALSE) -> CAM-ORCA-FusionBT CoaX | D41: 183738 | E41: =B41*D41 -> 367476 | F41: 27 | G41: =B41*D41*(100-F41)/100 -> 268257.48 | H41: =VLOOKUP(A41,'Distrib. Pricing Only Full'!A:W,20,FALSE) -> 26769 | I41: =VLOOKUP(A41,'Distrib. Pricing Only Full'!A:X,22,FALSE) -> 0.25 | J41: =VLOOKUP(A41,'Distrib. Pricing Only Full'!A:Y,21,FALSE) -> 20076.75 | K41: =J41*7.44*B41 -> 298742.04 | L41: =K41 -> 298742.04
A42: E9701861 | B42: 1 | C42: =VLOOKUP(A42,'Distrib. Pricing Only Full'!A:W,3,FALSE) -> HW-WORKSTATION-HP-Z6G5-IXPL | D42: 73908 | E42: =B42*D42 -> 73908 | F42: 27 | G42: =B42*D42*(100-F42)/100 -> 53952.84 | H42: =VLOOKUP(A42,'Distrib. Pricing Only Full'!A:W,20,FALSE) -> 10125 | I42: =VLOOKUP(A42,'Distrib. Pricing Only Full'!A:X,22,FALSE) -> 0.25 | J42: =VLOOKUP(A42,'Distrib. Pricing Only Full'!A:Y,21,FALSE) -> 7593.75 | K42: =J42*7.44*B42 -> 56497.5 | L42: =K42 -> 56497.5
A43: E0434240 | B43: 1 | C43: =VLOOKUP(A43,'Distrib. Pricing Only Full'!A:W,3,FALSE) -> FVL-43-Monitor Dell USB-C Hub | D43: 10254 | E43: =B43*D43 -> 10254 | F43: 27 | G43: =B43*D43*(100-F43)/100 -> 7485.42 | H43: =VLOOKUP(A43,'Distrib. Pricing Only Full'!A:W,20,FALSE) -> 1405 | I43: =VLOOKUP(A43,'Distrib. Pricing Only Full'!A:X,22,FALSE) -> 0.25 | J43: =VLOOKUP(A43,'Distrib. Pricing Only Full'!A:Y,21,FALSE) -> 1053.75 | K43: =J43*7.44*B43 -> 7839.9 | L43: =K43 -> 7839.9
A44: N6440400 | B44: 1 | C44: =VLOOKUP(A44,'Distrib. Pricing Only Full'!A:W,3,FALSE) -> #N/A | D44: 52962 | E44: =B44*D44 -> 52962 | F44: 27 | G44: =B44*D44*(100-F44)/100 -> 38662.26 | H44: =VLOOKUP(A44,'Distrib. Pricing Only Full'!A:W,20,FALSE) -> #N/A | I44: =VLOOKUP(A44,'Distrib. Pricing Only Full'!A:X,22,FALSE) -> #N/A | J44: =VLOOKUP(A44,'Distrib. Pricing Only Full'!A:Y,21,FALSE) -> #N/A | K44: =J44*7.44*B44 -> #N/A | L44: =K44 -> #N/A
A45: N6419800 | B45: 1 | C45: =VLOOKUP(A45,'Distrib. Pricing Only Full'!A:W,3,FALSE) -> CS-S-MP-VF-EL Multi Position | D45: 19875 | E45: =B45*D45 -> 19875 | F45: 27 | G45: =B45*D45*(100-F45)/100 -> 14508.75 | H45: =VLOOKUP(A45,'Distrib. Pricing Only Full'!A:W,20,FALSE) -> 2517 | I45: =VLOOKUP(A45,'Distrib. Pricing Only Full'!A:X,22,FALSE) -> 0.48 | J45: =VLOOKUP(A45,'Distrib. Pricing Only Full'!A:Y,21,FALSE) -> 1308.84 | K45: =J45*7.44*B45 -> 9737.7696 | L45: =K45 -> 9737.7696
A46: N6420100 | B46: 1 | C46: =VLOOKUP(A46,'Distrib. Pricing Only Full'!A:W,3,FALSE) -> CS-S-WN-VF-EL Well navigator | D46: 8921 | E46: =B46*D46 -> 8921 | F46: 27 | G46: =B46*D46*(100-F46)/100 -> 6512.33 | H46: =VLOOKUP(A46,'Distrib. Pricing Only Full'!A:W,20,FALSE) -> 1130 | I46: =VLOOKUP(A46,'Distrib. Pricing Only Full'!A:X,22,FALSE) -> 0.48 | J46: =VLOOKUP(A46,'Distrib. Pricing Only Full'!A:Y,21,FALSE) -> 587.6 | K46: =J46*7.44*B46 -> 4371.744 | L46: =K46 -> 4371.744
A47: E0438681 | B47: 1 | C47: =VLOOKUP(A47,'Distrib. Pricing Only Full'!A:W,3,FALSE) -> NP-IXPL-SD-ACAVTA act AV table | D47: 50857 | E47: =B47*D47 -> 50857 | F47: 27 | G47: =B47*D47*(100-F47)/100 -> 37125.61 | H47: =VLOOKUP(A47,'Distrib. Pricing Only Full'!A:W,20,FALSE) -> 7271 | I47: =VLOOKUP(A47,'Distrib. Pricing Only Full'!A:X,22,FALSE) -> 0.25 | J47: =VLOOKUP(A47,'Distrib. Pricing Only Full'!A:Y,21,FALSE) -> 5453.25 | K47: =J47*7.44*B47 -> 40572.18 | L47: =K47 -> 40572.18
A48: ESS00172 | B48: 1 | C48: =VLOOKUP(A48,'Distrib. Pricing Only Full'!A:W,3,FALSE) -> IXPSPSR-C5-PMNT Contract 5yr | D48: 116233 | E48: =B48*D48 -> 116233 | F48: 27 | G48: =B48*D48*(100-F48)/100 -> 84850.09 | H48: =VLOOKUP(A48,'Distrib. Pricing Only Full'!A:W,20,FALSE) -> 21711 | I48: =VLOOKUP(A48,'Distrib. Pricing Only Full'!A:X,22,FALSE) -> 0.25890102 | J48: =VLOOKUP(A48,'Distrib. Pricing Only Full'!A:Y,21,FALSE) -> 16090 | K48: =J48*7.44*B48 -> 119709.6 | L48: =K48 -> 119709.6
A49: ESS00170 | B49: 1 | C49: =VLOOKUP(A49,'Distrib. Pricing Only Full'!A:W,3,FALSE) -> IXPSPSR-C3-PMNT Contract 3yr | D49: 67089 | E49: =B49*D49 -> 67089 | F49: 0 | G49: =B49*D49*(100-F49)/100 -> 67089 | H49: =VLOOKUP(A49,'Distrib. Pricing Only Full'!A:W,20,FALSE) -> 12521 | I49: =VLOOKUP(A49,'Distrib. Pricing Only Full'!A:X,22,FALSE) -> 0.25884514 | J49: =VLOOKUP(A49,'Distrib. Pricing Only Full'!A:Y,21,FALSE) -> 9280 | K49: =J49*7.44*B49 -> 69043.2 | L49: =K49 -> 69043.2 | M49: Optional
A50: ESS00182 | B50: 0 | C50: =VLOOKUP(A50,'Distrib. Pricing Only Full'!A:W,3,FALSE) -> IXPSPIN-C3-FCOV Contract 3yr | D50: 271190 | E50: =B50*D50 -> 0 | F50: 0 | G50: =B50*D50*(100-F50)/100 -> 0 | H50: =VLOOKUP(A50,'Distrib. Pricing Only Full'!A:W,20,FALSE) -> 42696 | I50: =VLOOKUP(A50,'Distrib. Pricing Only Full'!A:X,22,FALSE) -> 0.15448754 | J50: =VLOOKUP(A50,'Distrib. Pricing Only Full'!A:Y,21,FALSE) -> 36100 | K50: =J50*7.44*B50 -> 0 | L50: =K50 -> 0 | M50: Optional
A51: E0437054 | B51: 1 | C51: =VLOOKUP(A51,'Distrib. Pricing Only Full'!A:W,3,FALSE) -> IX-LAS488-100LXS | E51: =B51*D51 -> 0 | F51: 0 | G51: =B51*D51*(100-F51)/100 -> 0 | H51: =VLOOKUP(A51,'Distrib. Pricing Only Full'!A:W,20,FALSE) -> 10741 | I51: =VLOOKUP(A51,'Distrib. Pricing Only Full'!A:X,22,FALSE) -> 0.25 | J51: =VLOOKUP(A51,'Distrib. Pricing Only Full'!A:Y,21,FALSE) -> 8055.75 | K51: =J51*7.44*B51 -> 59934.78 | L51: =K51 -> 59934.78
A52: N9052404 | B52: 1 | C52: =VLOOKUP(A52,'Distrib. Pricing Only Full'!A:W,3,FALSE) -> CSUW1C-LD488LX add-on kit | E52: =B52*D52 -> 0 | F52: 0 | G52: =B52*D52*(100-F52)/100 -> 0 | H52: =VLOOKUP(A52,'Distrib. Pricing Only Full'!A:W,20,FALSE) -> 607 | I52: =VLOOKUP(A52,'Distrib. Pricing Only Full'!A:X,22,FALSE) -> 0.48 | J52: =VLOOKUP(A52,'Distrib. Pricing Only Full'!A:Y,21,FALSE) -> 315.64 | K52: =J52*7.44*B52 -> 2348.3616 | L52: =K52 -> 2348.3616
D53: =SUM(D2:D50) -> 3845834 | E53: =SUM(E2:E50) -> 3797730 | G53: =SUM(G2:G52) -> 2896790.6 | K53: =SUM(K2:K50) -> #N/A | L53: =SUM(L2:L50) -> #N/A
D54: =D53-D50-D49 -> 3507555 | G54: =E53-G53 -> 900939.4
C56: Description // DKK | D56: Customer pays | E56: Quote wo. lasers | F56: We pay Evident | G56: We pay Coherent | H56: We pay total | I56: We make
C57: Quote, final price | D57: 2986797.9 | F57: 0 | G57: 0 | H57: =SUM(F57+G57) -> 0
C58: Quote without lasers | E58: =D57-G40 -> 2755230.9 | F58: =E58*0.95 -> 2617469.4 | G58: 0 | H58: =SUM(F58+G58) -> 2617469.4 | I58: =E58*0.05 -> 137761.55
C59: Difference: | F59: 0 | G59: 0 | H59: =SUM(F59+G59) -> 0
C60: 488 nm laser and kit | F60: =L51+L52 -> 62283.142 | G60: 0 | H60: =SUM(F60+G60) -> 62283.142
C61: Bought from Coherent, discount price for customer | F61: 0 | G61: =96294.5+31773.13 -> 128067.63 | H61: =SUM(F61+G61) -> 128067.63
C62: SUM | D62: =SUM(D57:D61) -> 2986797.9 | F62: =SUM(F57:F61) -> 2679752.5 | G62: =SUM(G57:G61) -> 128067.63 | H62: =SUM(H57:H61) -> 2807820.1 | I62: =D62-H62 -> 178977.77

Sheet Miniopslag
B1: Varenummer | C1: Beskrivelse | D1: Antal | E1: pris EUR | F1: DKK | G1: Evident rabat | H1: Rabat givet | J1: "Avancematrix" | M1: EVIDENT SELV
B2: E9701741 | D2: 1 | E2: =IFERROR(VLOOKUP(B2,'Distrib. Pricing Only Full'!A:U,21,FALSE)*D2,"") -> 93266.6 | F2: =IFERROR(E2*7.44,"") -> 693903.5 | G2: =+VLOOKUP(B2,'Distrib. Pricing Only Full'!A:V,22,FALSE) -> 0.3 | H2: 0.15 | I2: 951696 | J2: =(I2-F2)/I2 -> 0.27087694 | K2: =+VLOOKUP(B2,'Distrib. Pricing Only Full'!A:T,20,FALSE)*7.44 -> 991290.72 | L2: =+K2-I2 -> 39594.72 | M2: =+L2/K2 -> 0.039942591
B3: E9701312 | C3: =IFERROR(VLOOKUP(B3,'Distrib. Pricing Only Full'!A:C,3,FALSE),"") -> VS20-POWSUP Power Supply | D3: 1 | E3: =IFERROR(VLOOKUP(B3,'Distrib. Pricing Only Full'!A:U,21,FALSE)*D3,"") -> 210.7 | F3: =IFERROR(E3*7.44,"") -> 1567.608 | G3: =+VLOOKUP(B3,'Distrib. Pricing Only Full'!A:V,22,FALSE) -> 0.3 | H3: 0.15 | K3: =+K2/I2 -> 1.0416044
B4: E9701331 | C4: =IFERROR(VLOOKUP(B4,'Distrib. Pricing Only Full'!A:C,3,FALSE),"") | D4: 1 | E4: =IFERROR(VLOOKUP(B4,'Distrib. Pricing Only Full'!A:U,21,FALSE)*D4,"") | F4: =IFERROR(E4*7.44,"") | G4: =+VLOOKUP(B4,'Distrib. Pricing Only Full'!A:V,22,FALSE) -> #N/A | H4: 0.15
B5: 035425 | C5: =IFERROR(VLOOKUP(B5,'Distrib. Pricing Only Full'!A:C,3,FALSE),"") -> UYCP POWER CORD | D5: 6 | E5: =IFERROR(VLOOKUP(B5,'Distrib. Pricing Only Full'!A:U,21,FALSE)*D5,"") -> 81 | F5: =IFERROR(E5*7.44,"") -> 602.64 | G5: =+VLOOKUP(B5,'Distrib. Pricing Only Full'!A:V,22,FALSE) -> 0.25 | H5: 0.15 | I5: =127*6 -> 762 | J5: =(I5-F5)/I5 -> 0.20913386 | K5: =+VLOOKUP(B5,'Distrib. Pricing Only Full'!A:T,20,FALSE)*7.44*D5 -> 803.52 | L5: =+K5-I5 -> 41.52 | M5: =+L5/K5 -> 0.05167264
B6: N5701900 | C6: =IFERROR(VLOOKUP(B6,'Distrib. Pricing Only Full'!A:C,3,FALSE),"") -> UPLXAPO10X Objective | D6: 1 | E6: =IFERROR(VLOOKUP(B6,'Distrib. Pricing Only Full'!A:U,21,FALSE)*D6,"") -> 1472.64 | F6: =IFERROR(E6*7.44,"") -> 10956.442 | G6: =+VLOOKUP(B6,'Distrib. Pricing Only Full'!A:V,22,FALSE) -> 0.48 | H6: 0.15 | I6: 22376 | J6: =(I6-F6)/I6 -> 0.51034852 | K6: =+VLOOKUP(B6,'Distrib. Pricing Only Full'!A:T,20,FALSE)*7.44 -> 21070.08 | L6: =+K6-I6 -> -1305.92 | M6: =+L6/K6 -> -0.061979831
B7: N5702100 | C7: =IFERROR(VLOOKUP(B7,'Distrib. Pricing Only Full'!A:C,3,FALSE),"") -> UPLXAPO40X Objective | D7: 1 | E7: =IFERROR(VLOOKUP(B7,'Distrib. Pricing Only Full'!A:U,21,FALSE)*D7,"") -> 2616.64 | F7: =IFERROR(E7*7.44,"") -> 19467.802 | G7: =+VLOOKUP(B7,'Distrib. Pricing Only Full'!A:V,22,FALSE) -> 0.48 | H7: 0.15
B8: E0437609 | C8: =IFERROR(VLOOKUP(B8,'Distrib. Pricing Only Full'!A:C,3,FALSE),"") -> L-VS-TA13070 table | D8: 1 | E8: =IFERROR(VLOOKUP(B8,'Distrib. Pricing Only Full'!A:U,21,FALSE)*D8,"") -> 5828.25 | F8: =IFERROR(E8*7.44,"") -> 43362.18 | G8: =+VLOOKUP(B8,'Distrib. Pricing Only Full'!A:V,22,FALSE) -> 0.25 | H8: 0.15
B9: ESS00208 | C9: =IFERROR(VLOOKUP(B9,'Distrib. Pricing Only Full'!A:C,3,FALSE),"") -> VS20MTF-D0-INST Installation | D9: 1 | E9: =IFERROR(VLOOKUP(B9,'Distrib. Pricing Only Full'!A:U,21,FALSE)*D9,"") -> 3270 | F9: =IFERROR(E9*7.44,"") -> 24328.8 | G9: =+VLOOKUP(B9,'Distrib. Pricing Only Full'!A:V,22,FALSE) -> 0.25715584 | H9: 0.15
B10: E0444003 | C10: =IFERROR(VLOOKUP(B10,'Distrib. Pricing Only Full'!A:C,3,FALSE),"") -> SUP-LS Training 1 day | D10: 1 | E10: =IFERROR(VLOOKUP(B10,'Distrib. Pricing Only Full'!A:U,21,FALSE)*D10,"") -> 1590 | F10: =IFERROR(E10*7.44,"") -> 11829.6 | G10: =+VLOOKUP(B10,'Distrib. Pricing Only Full'!A:V,22,FALSE) -> 0.25700935 | H10: 0.15
B11: E9701326 | C11: =IFERROR(VLOOKUP(B11,'Distrib. Pricing Only Full'!A:C,3,FALSE),"") -> VS20S-FLUO Fluor. Acquisition | D11: 1 | E11: =IFERROR(VLOOKUP(B11,'Distrib. Pricing Only Full'!A:U,21,FALSE)*D11,"") -> 7172.2 | F11: =IFERROR(E11*7.44,"") -> 53361.168 | G11: =+VLOOKUP(B11,'Distrib. Pricing Only Full'!A:V,22,FALSE) -> 0.3 | H11: 0.15
B12: E9701340 | C12: =IFERROR(VLOOKUP(B12,'Distrib. Pricing Only Full'!A:C,3,FALSE),"") -> VS20-BLACKOUT Placeholder | D12: 1 | E12: =IFERROR(VLOOKUP(B12,'Distrib. Pricing Only Full'!A:U,21,FALSE)*D12,"") -> 51.1 | F12: =IFERROR(E12*7.44,"") -> 380.184 | G12: =+VLOOKUP(B12,'Distrib. Pricing Only Full'!A:V,22,FALSE) -> 0.3 | H12: 0.15
B13: E9701341 | C13: =IFERROR(VLOOKUP(B13,'Distrib. Pricing Only Full'!A:C,3,FALSE),"") -> VS20-EMPTYGLASS Glass filter | D13: 1 | E13: =IFERROR(VLOOKUP(B13,'Distrib. Pricing Only Full'!A:U,21,FALSE)*D13,"") -> 231 | F13: =IFERROR(E13*7.44,"") -> 1718.64 | G13: =+VLOOKUP(B13,'Distrib. Pricing Only Full'!A:V,22,FALSE) -> 0.3 | H13: 0.15
B14: E0433971 | C14: =IFERROR(VLOOKUP(B14,'Distrib. Pricing Only Full'!A:C,3,FALSE),"") -> XC-VS-LED-385-NOVEM light src | D14: 1 | E14: =IFERROR(VLOOKUP(B14,'Distrib. Pricing Only Full'!A:U,21,FALSE)*D14,"") -> 13942.5 | F14: =IFERROR(E14*7.44,"") -> 103732.2 | G14: =+VLOOKUP(B14,'Distrib. Pricing Only Full'!A:V,22,FALSE) -> 0.25 | H14: 0.15
B15: N4245100 | C15: =IFERROR(VLOOKUP(B15,'Distrib. Pricing Only Full'!A:C,3,FALSE),"") -> IX3-RFALFE L-shape illumin. | D15: 1 | E15: =IFERROR(VLOOKUP(B15,'Distrib. Pricing Only Full'!A:U,21,FALSE)*D15,"") -> 2493.92 | F15: =IFERROR(E15*7.44,"") -> 18554.765 | G15: =+VLOOKUP(B15,'Distrib. Pricing Only Full'!A:V,22,FALSE) -> 0.48 | H15: 0.15
B16: N5205300 | C16: =IFERROR(VLOOKUP(B16,'Distrib. Pricing Only Full'!A:C,3,FALSE),"") -> IX3-RFACA-1-3 motorized turret | D16: 1 | E16: =IFERROR(VLOOKUP(B16,'Distrib. Pricing Only Full'!A:U,21,FALSE)*D16,"") -> 1344.2 | F16: =IFERROR(E16*7.44,"") -> 10000.848 | G16: =+VLOOKUP(B16,'Distrib. Pricing Only Full'!A:V,22,FALSE) -> 0.48 | H16: 0.15
B17: E0437421 | C17: =IFERROR(VLOOKUP(B17,'Distrib. Pricing Only Full'!A:C,3,FALSE),"") -> KRO-SpectraSplit7 filter set | D17: 1 | E17: =IFERROR(VLOOKUP(B17,'Distrib. Pricing Only Full'!A:U,21,FALSE)*D17,"") -> 8985 | F17: =IFERROR(E17*7.44,"") -> 66848.4 | G17: =+VLOOKUP(B17,'Distrib. Pricing Only Full'!A:V,22,FALSE) -> 0.25 | H17: 0.15
B18: E9701323 | C18: =IFERROR(VLOOKUP(B18,'Distrib. Pricing Only Full'!A:C,3,FALSE),"") -> VS20-304M Monochrome Camera | D18: 1 | E18: =IFERROR(VLOOKUP(B18,'Distrib. Pricing Only Full'!A:U,21,FALSE)*D18,"") -> 3840.2 | F18: =IFERROR(E18*7.44,"") -> 28571.088 | G18: =+VLOOKUP(B18,'Distrib. Pricing Only Full'!A:V,22,FALSE) -> 0.3 | H18: 0.15
... B20: E9701319 | C20: =IFERROR(VLOOKUP(B20,'Distrib. Pricing Only Full'!A:C,3,FALSE),"") -> VS20-ST13X5 1x3 Tray Set of 5 | D20: 2 | E20: =IFERROR(VLOOKUP(B20,'Distrib. Pricing Only Full'!A:U,21,FALSE)*D20,"") -> 8222.2 | F20: =IFERROR(E20*7.44,"") -> 61173.168 | G20: =+VLOOKUP(B20,'Distrib. Pricing Only Full'!A:V,22,FALSE) -> 0.3 | H20: 0.15
C21: =IFERROR(VLOOKUP(B21,'Distrib. Pricing Only Full'!A:C,3,FALSE),"") | D21: 1 | E21: =IFERROR(VLOOKUP(B21,'Distrib. Pricing Only Full'!A:U,21,FALSE)*D21,"") | F21: =IFERROR(E21*7.44,"")
B22: E0434072 | C22: =IFERROR(VLOOKUP(B22,'Distrib. Pricing Only Full'!A:C,3,FALSE),"") | D22: 1 | E22: =IFERROR(VLOOKUP(B22,'Distrib. Pricing Only Full'!A:U,21,FALSE)*D22,"") | F22: =IFERROR(E22*7.44,"") | G22: =+VLOOKUP(B22,'Distrib. Pricing Only Full'!A:V,22,FALSE) -> #N/A | H22: 0.15 | J22: 0.27 | K22: =+F22/0.73/0.85 -> #VALUE! | L22: =+K22-F22 -> #VALUE! | M22: =+L22/K22 -> #VALUE!
B23: E0430797 | C23: =IFERROR(VLOOKUP(B23,'Distrib. Pricing Only Full'!A:C,3,FALSE),"") -> M-SIS-IX Stage insert | D23: 1 | E23: =IFERROR(VLOOKUP(B23,'Distrib. Pricing Only Full'!A:U,21,FALSE)*D23,"") -> 148.5 | F23: =IFERROR(E23*7.44,"") -> 1104.84 | G23: =+VLOOKUP(B23,'Distrib. Pricing Only Full'!A:V,22,FALSE) -> 0.25
C24: =IFERROR(VLOOKUP(B24,'Distrib. Pricing Only Full'!A:C,3,FALSE),"") | D24: 1 | E24: =IFERROR(VLOOKUP(B24,'Distrib. Pricing Only Full'!A:U,21,FALSE)*D24,"") | F24: =IFERROR(E24*7.44,"")
B25: 037450 | C25: =IFERROR(VLOOKUP(B25,'Distrib. Pricing Only Full'!A:C,3,FALSE),"") -> U-SVRB-4 STAGE W/RIGHT CONTROL | D25: 2 | E25: =IFERROR(VLOOKUP(B25,'Distrib. Pricing Only Full'!A:U,21,FALSE)*D25,"") -> 959.92 | F25: =IFERROR(E25*7.44,"") -> 7141.8048 | G25: =+VLOOKUP(B25,'Distrib. Pricing Only Full'!A:V,22,FALSE) -> 0.48 | H25: 0.35 | I25: 9467.9 | J25: =+I25-F25 -> 2326.0952 | K25: =+J25/I25 -> 0.24568227
B26: N5742600 | C26: =IFERROR(VLOOKUP(B26,'Distrib. Pricing Only Full'!A:C,3,FALSE),"") -> U-MDOB3-1-7 | D26: 2 | E26: =IFERROR(VLOOKUP(B26,'Distrib. Pricing Only Full'!A:U,21,FALSE)*D26,"") -> 4311.84 | F26: =IFERROR(E26*7.44,"") -> 32080.09 | G26: =+VLOOKUP(B26,'Distrib. Pricing Only Full'!A:V,22,FALSE) -> 0.48 | H26: 0.35 | I26: 42582.8 | J26: =+I26-F26 -> 10502.71 | K26: =+J26/I26 -> 0.24664208
B27: N5685100 | C27: =IFERROR(VLOOKUP(B27,'Distrib. Pricing Only Full'!A:C,3,FALSE),"") -> U-MDOSV-2-6 | D27: 2 | E27: =IFERROR(VLOOKUP(B27,'Distrib. Pricing Only Full'!A:U,21,FALSE)*D27,"") -> 3073.2 | F27: =IFERROR(E27*7.44,"") -> 22864.608 | G27: =+VLOOKUP(B27,'Distrib. Pricing Only Full'!A:V,22,FALSE) -> 0.48 | H27: 0.35 | I27: 30357.6 | J27: =+I27-F27 -> 7492.992 | K27: =+J27/I27 -> 0.24682425
C28: =IFERROR(VLOOKUP(B28,'Distrib. Pricing Only Full'!A:C,3,FALSE),"") | D28: 1 | E28: =IFERROR(VLOOKUP(B28,'Distrib. Pricing Only Full'!A:U,21,FALSE)*D28,"") | F28: =IFERROR(E28*7.5,"")
C29: =IFERROR(VLOOKUP(B29,'Distrib. Pricing Only Full'!A:C,3,FALSE),"") | D29: 1 | E29: =IFERROR(VLOOKUP(B29,'Distrib. Pricing Only Full'!A:U,21,FALSE)*D29,"") | F29: =IFERROR(E29*7.5,"")
C30: =IFERROR(VLOOKUP(B30,'Distrib. Pricing Only Full'!A:C,3,FALSE),"") | D30: 1 | E30: =IFERROR(VLOOKUP(B30,'Distrib. Pricing Only Full'!A:U,21,FALSE)*D30,"") | F30: =IFERROR(E30*7.5,"") | L30: 80500
C31: =IFERROR(VLOOKUP(B31,'Distrib. Pricing Only Full'!A:C,3,FALSE),"") | D31: 1 | E31: =IFERROR(VLOOKUP(B31,'Distrib. Pricing Only Full'!A:U,21,FALSE)*D31,"") | F31: =IFERROR(E31*7.5,"") | L31: 50000
C32: =IFERROR(VLOOKUP(B32,'Distrib. Pricing Only Full'!A:C,3,FALSE),"") | D32: 1 | E32: =IFERROR(VLOOKUP(B32,'Distrib. Pricing Only Full'!A:U,21,FALSE)*D32,"") | F32: =IFERROR(E32*7.5,"")
L33: =+L30*0.85 -> 68425
D34: Evident priser | E34: =+SUBTOTAL(9,E2:E32) -> 163111.61 | F34: =+SUBTOTAL(9,F2:F32) -> 1213550.4 | L34: =+L33-L31 -> 18425
L35: =+L34/L33 -> 0.26927293
D36: Tilbudt pris | F36: 1734875.9
D38: DG | F38: =(F36-F34)/F36 -> 0.30049732
F40: =+F34*1.25 -> 1516938
F41: =+F40-F36 -> -217937.98
F42: =+F40/F36 -> 0.87437835

Sheet Ark1
B1: Varenummer | C1: Beskrivelse | D1: Antal | E1: pris EUR | F1: DKK | G1: Evident rabat | H1: Rabat givet | J1: "Avancematrix" | M1: EVIDENT SELV
B2: N5731900 | C2: =IFERROR(VLOOKUP(B2,'Distrib. Pricing Only Full'!A:C,3,FALSE),"") -> CKX53SF-1-3 microscope frame | D2: 1 | E2: =IFERROR(VLOOKUP(B2,'Distrib. Pricing Only Full'!A:U,21,FALSE)*D2,"") -> 1995.76 | F2: =IFERROR(E2*7.44,"") -> 14848.454 | G2: =+VLOOKUP(B2,'Distrib. Pricing Only Full'!A:V,22,FALSE) -> 0.48 | H2: 0.15 | I2: 951696 | J2: =(I2-F2)/I2 -> 0.9843979 | K2: =+VLOOKUP(B2,'Distrib. Pricing Only Full'!A:T,20,FALSE)*7.44 -> 28554.72 | L2: =+K2-I2 -> -923141.28 | M2: =+L2/K2 -> -32.328851
B3: N5228300 | C3: =IFERROR(VLOOKUP(B3,'Distrib. Pricing Only Full'!A:C,3,FALSE),"") -> CKX3-MVR Mechanical stage | D3: 1 | E3: =IFERROR(VLOOKUP(B3,'Distrib. Pricing Only Full'!A:U,21,FALSE)*D3,"") -> 524.16 | F3: =IFERROR(E3*7.44,"") -> 3899.7504 | G3: =+VLOOKUP(B3,'Distrib. Pricing Only Full'!A:V,22,FALSE) -> 0.48 | H3: 0.15 | K3: =+K2/I2 -> 0.030004035
B4: 030362 | C4: =IFERROR(VLOOKUP(B4,'Distrib. Pricing Only Full'!A:C,3,FALSE),"") -> CK2-SS | D4: 1 | E4: =IFERROR(VLOOKUP(B4,'Distrib. Pricing Only Full'!A:U,21,FALSE)*D4,"") -> 28.08 | F4: =IFERROR(E4*7.44,"") -> 208.9152 | G4: =+VLOOKUP(B4,'Distrib. Pricing Only Full'!A:V,22,FALSE) -> 0.48 | H4: 0.15
B5: N5229000 | C5: =IFERROR(VLOOKUP(B5,'Distrib. Pricing Only Full'!A:C,3,FALSE),"") -> CKX3-HOUN Mechanical holder | D5: 1 | E5: =IFERROR(VLOOKUP(B5,'Distrib. Pricing Only Full'!A:U,21,FALSE)*D5,"") -> 314.6 | F5: =IFERROR(E5*7.44,"") -> 2340.624 | G5: =+VLOOKUP(B5,'Distrib. Pricing Only Full'!A:V,22,FALSE) -> 0.48 | H5: 0.15 | I5: =127*6 -> 762 | J5: =(I5-F5)/I5 -> -2.071685 | K5: =+VLOOKUP(B5,'Distrib. Pricing Only Full'!A:T,20,FALSE)*7.44*D5 -> 4501.2 | L5: =+K5-I5 -> 3739.2 | M5: =+L5/K5 -> 0.83071181
B6: N5228500 | C6: =IFERROR(VLOOKUP(B6,'Distrib. Pricing Only Full'!A:C,3,FALSE),"") -> CKX3-SLP IPC slider | D6: 1 | E6: =IFERROR(VLOOKUP(B6,'Distrib. Pricing Only Full'!A:U,21,FALSE)*D6,"") -> 61.88 | F6: =IFERROR(E6*7.44,"") -> 460.3872 | G6: =+VLOOKUP(B6,'Distrib. Pricing Only Full'!A:V,22,FALSE) -> 0.48 | H6: 0.15 | I6: 22376 | J6: =(I6-F6)/I6 -> 0.97942496 | K6: =+VLOOKUP(B6,'Distrib. Pricing Only Full'!A:T,20,FALSE)*7.44 -> 885.36 | L6: =+K6-I6 -> -21490.64 | M6: =+L6/K6 -> -24.273335
B7: 035425 | C7: =IFERROR(VLOOKUP(B7,'Distrib. Pricing Only Full'!A:C,3,FALSE),"") -> UYCP POWER CORD | D7: 1 | E7: =IFERROR(VLOOKUP(B7,'Distrib. Pricing Only Full'!A:U,21,FALSE)*D7,"") -> 13.5 | F7: =IFERROR(E7*7.44,"") -> 100.44 | G7: =+VLOOKUP(B7,'Distrib. Pricing Only Full'!A:V,22,FALSE) -> 0.25 | H7: 0.15
B8: N5704200 | C8: =IFERROR(VLOOKUP(B8,'Distrib. Pricing Only Full'!A:C,3,FALSE),"") | D8: 1 | E8: =IFERROR(VLOOKUP(B8,'Distrib. Pricing Only Full'!A:U,21,FALSE)*D8,"") | F8: =IFERROR(E8*7.44,"") | G8: =+VLOOKUP(B8,'Distrib. Pricing Only Full'!A:V,22,FALSE) -> #N/A | H8: 0.15
B9: N5739800 | C9: =IFERROR(VLOOKUP(B9,'Distrib. Pricing Only Full'!A:C,3,FALSE),"") -> CACHN10XIPC-1-7 | D9: 1 | E9: =IFERROR(VLOOKUP(B9,'Distrib. Pricing Only Full'!A:U,21,FALSE)*D9,"") -> 151.84 | F9: =IFERROR(E9*7.44,"") -> 1129.6896 | G9: =+VLOOKUP(B9,'Distrib. Pricing Only Full'!A:V,22,FALSE) -> 0.48 | H9: 0.15
B10: N5229300 | C10: =IFERROR(VLOOKUP(B10,'Distrib. Pricing Only Full'!A:C,3,FALSE),"") -> LCACHN20XIPC Objective | D10: 1 | E10: =IFERROR(VLOOKUP(B10,'Distrib. Pricing Only Full'!A:U,21,FALSE)*D10,"") -> 403.52 | F10: =IFERROR(E10*7.44,"") -> 3002.1888 | G10: =+VLOOKUP(B10,'Distrib. Pricing Only Full'!A:V,22,FALSE) -> 0.48 | H10: 0.15
B11: N5229400 | C11: =IFERROR(VLOOKUP(B11,'Distrib. Pricing Only Full'!A:C,3,FALSE),"") -> LCACHN40XIPC Objective | D11: 1 | E11: =IFERROR(VLOOKUP(B11,'Distrib. Pricing Only Full'!A:U,21,FALSE)*D11,"") -> 393.12 | F11: =IFERROR(E11*7.44,"") -> 2924.8128 | G11: =+VLOOKUP(B11,'Distrib. Pricing Only Full'!A:V,22,FALSE) -> 0.48 | H11: 0.15
B12: N1153000 | C12: =IFERROR(VLOOKUP(B12,'Distrib. Pricing Only Full'!A:C,3,FALSE),"") -> DUST COVER F.CKX41/31 | D12: 1 | E12: =IFERROR(VLOOKUP(B12,'Distrib. Pricing Only Full'!A:U,21,FALSE)*D12,"") -> 20.28 | F12: =IFERROR(E12*7.44,"") -> 150.8832 | G12: =+VLOOKUP(B12,'Distrib. Pricing Only Full'!A:V,22,FALSE) -> 0.48 | H12: 0.15
B13: 030007 | C13: =IFERROR(VLOOKUP(B13,'Distrib. Pricing Only Full'!A:C,3,FALSE),"") -> LENS CLEANING TISSUE | D13: 1 | E13: =IFERROR(VLOOKUP(B13,'Distrib. Pricing Only Full'!A:U,21,FALSE)*D13,"") -> 9.88 | F13: =IFERROR(E13*7.44,"") -> 73.5072 | G13: =+VLOOKUP(B13,'Distrib. Pricing Only Full'!A:V,22,FALSE) -> 0.48 | H13: 0.15
C14: =IFERROR(VLOOKUP(B14,'Distrib. Pricing Only Full'!A:C,3,FALSE),"") | E14: =IFERROR(VLOOKUP(B14,'Distrib. Pricing Only Full'!A:U,21,FALSE)*D14,"") | F14: =IFERROR(E14*7.44,"") | G14: =+VLOOKUP(B14,'Distrib. Pricing Only Full'!A:V,22,FALSE) -> #N/A | H14: 0.15
C15: =IFERROR(VLOOKUP(B15,'Distrib. Pricing Only Full'!A:C,3,FALSE),"") | E15: =IFERROR(VLOOKUP(B15,'Distrib. Pricing Only Full'!A:U,21,FALSE)*D15,"") | F15: =IFERROR(E15*7.44,"") | G15: =+VLOOKUP(B15,'Distrib. Pricing Only Full'!A:V,22,FALSE) -> #N/A | H15: 0.15
C16: =IFERROR(VLOOKUP(B16,'Distrib. Pricing Only Full'!A:C,3,FALSE),"") | E16: =IFERROR(VLOOKUP(B16,'Distrib. Pricing Only Full'!A:U,21,FALSE)*D16,"") | F16: =IFERROR(E16*7.44,"") | G16: =+VLOOKUP(B16,'Distrib. Pricing Only Full'!A:V,22,FALSE) -> #N/A | H16: 0.15
C17: =IFERROR(VLOOKUP(B17,'Distrib. Pricing Only Full'!A:C,3,FALSE),"") | E17: =IFERROR(VLOOKUP(B17,'Distrib. Pricing Only Full'!A:U,21,FALSE)*D17,"") | F17: =IFERROR(E17*7.44,"") | G17: =+VLOOKUP(B17,'Distrib. Pricing Only Full'!A:V,22,FALSE) -> #N/A | H17: 0.15
C18: =IFERROR(VLOOKUP(B18,'Distrib. Pricing Only Full'!A:C,3,FALSE),"") | E18: =IFERROR(VLOOKUP(B18,'Distrib. Pricing Only Full'!A:U,21,FALSE)*D18,"") | F18: =IFERROR(E18*7.44,"") | G18: =+VLOOKUP(B18,'Distrib. Pricing Only Full'!A:V,22,FALSE) -> #N/A | H18: 0.15
C19: =IFERROR(VLOOKUP(B19,'Distrib. Pricing Only Full'!A:C,3,FALSE),"") | E19: =IFERROR(VLOOKUP(B19,'Distrib. Pricing Only Full'!A:U,21,FALSE)*D19,"") | F19: =IFERROR(E19*7.44,"") | G19: =+VLOOKUP(B19,'Distrib. Pricing Only Full'!A:V,22,FALSE) -> #N/A | H19: 0.15
C20: =IFERROR(VLOOKUP(B20,'Distrib. Pricing Only Full'!A:C,3,FALSE),"") | E20: =IFERROR(VLOOKUP(B20,'Distrib. Pricing Only Full'!A:U,21,FALSE)*D20,"") | F20: =IFERROR(E20*7.44,"") | G20: =+VLOOKUP(B20,'Distrib. Pricing Only Full'!A:V,22,FALSE) -> #N/A | H20: 0.15
C21: =IFERROR(VLOOKUP(B21,'Distrib. Pricing Only Full'!A:C,3,FALSE),"") | E21: =IFERROR(VLOOKUP(B21,'Distrib. Pricing Only Full'!A:U,21,FALSE)*D21,"") | F21: =IFERROR(E21*7.44,"")
C22: =IFERROR(VLOOKUP(B22,'Distrib. Pricing Only Full'!A:C,3,FALSE),"") | E22: =IFERROR(VLOOKUP(B22,'Distrib. Pricing Only Full'!A:U,21,FALSE)*D22,"") | F22: =IFERROR(E22*7.44,"") | G22: =+VLOOKUP(B22,'Distrib. Pricing Only Full'!A:V,22,FALSE) -> #N/A | H22: 0.15 | J22: 0.27 | K22: =+F22/0.73/0.85 -> #VALUE! | L22: =+K22-F22 -> #VALUE! | M22: =+L22/K22 -> #VALUE!
C23: =IFERROR(VLOOKUP(B23,'Distrib. Pricing Only Full'!A:C,3,FALSE),"") | E23: =IFERROR(VLOOKUP(B23,'Distrib. Pricing Only Full'!A:U,21,FALSE)*D23,"") | F23: =IFERROR(E23*7.44,"") | G23: =+VLOOKUP(B23,'Distrib. Pricing Only Full'!A:V,22,FALSE) -> #N/A
C24: =IFERROR(VLOOKUP(B24,'Distrib. Pricing Only Full'!A:C,3,FALSE),"") | E24: =IFERROR(VLOOKUP(B24,'Distrib. Pricing Only Full'!A:U,21,FALSE)*D24,"") | F24: =IFERROR(E24*7.44,"")
C25: =IFERROR(VLOOKUP(B25,'Distrib. Pricing Only Full'!A:C,3,FALSE),"") | E25: =IFERROR(VLOOKUP(B25,'Distrib. Pricing Only Full'!A:U,21,FALSE)*D25,"") | F25: =IFERROR(E25*7.44,"") | G25: =+VLOOKUP(B25,'Distrib. Pricing Only Full'!A:V,22,FALSE) -> #N/A | H25: 0.35 | I25: 9467.9 | J25: =+I25-F25 -> #VALUE! | K25: =+J25/I25 -> #VALUE!
C26: =IFERROR(VLOOKUP(B26,'Distrib. Pricing Only Full'!A:C,3,FALSE),"") | E26: =IFERROR(VLOOKUP(B26,'Distrib. Pricing Only Full'!A:U,21,FALSE)*D26,"") | F26: =IFERROR(E26*7.44,"") | G26: =+VLOOKUP(B26,'Distrib. Pricing Only Full'!A:V,22,FALSE) -> #N/A | H26: 0.35 | I26: 42582.8 | J26: =+I26-F26 -> #VALUE! | K26: =+J26/I26 -> #VALUE!
C27: =IFERROR(VLOOKUP(B27,'Distrib. Pricing Only Full'!A:C,3,FALSE),"") | E27: =IFERROR(VLOOKUP(B27,'Distrib. Pricing Only Full'!A:U,21,FALSE)*D27,"") | F27: =IFERROR(E27*7.44,"") | G27: =+VLOOKUP(B27,'Distrib. Pricing Only Full'!A:V,22,FALSE) -> #N/A | H27: 0.35 | I27: 30357.6 | J27: =+I27-F27 -> #VALUE! | K27: =+J27/I27 -> #VALUE!
C28: =IFERROR(VLOOKUP(B28,'Distrib. Pricing Only Full'!A:C,3,FALSE),"") | E28: =IFERROR(VLOOKUP(B28,'Distrib. Pricing Only Full'!A:U,21,FALSE)*D28,"") | F28: =IFERROR(E28*7.5,"")
C29: =IFERROR(VLOOKUP(B29,'Distrib. Pricing Only Full'!A:C,3,FALSE),"") | E29: =IFERROR(VLOOKUP(B29,'Distrib. Pricing Only Full'!A:U,21,FALSE)*D29,"") | F29: =IFERROR(E29*7.5,"")
C30: =IFERROR(VLOOKUP(B30,'Distrib. Pricing Only Full'!A:C,3,FALSE),"") | E30: =IFERROR(VLOOKUP(B30,'Distrib. Pricing Only Full'!A:U,21,FALSE)*D30,"") | F30: =IFERROR(E30*7.5,"") | L30: 80500
C31: =IFERROR(VLOOKUP(B31,'Distrib. Pricing Only Full'!A:C,3,FALSE),"") | E31: =IFERROR(VLOOKUP(B31,'Distrib. Pricing Only Full'!A:U,21,FALSE)*D31,"") | F31: =IFERROR(E31*7.5,"") | L31: 50000
C32: =IFERROR(VLOOKUP(B32,'Distrib. Pricing Only Full'!A:C,3,FALSE),"") | E32: =IFERROR(VLOOKUP(B32,'Distrib. Pricing Only Full'!A:U,21,FALSE)*D32,"") | F32: =IFERROR(E32*7.5,"")
L33: =+L30*0.85 -> 68425
D34: Evident priser | E34: =+SUBTOTAL(9,E2:E32) -> 3916.62 | F34: =+SUBTOTAL(9,F2:F32) -> 29139.653 | L34: =+L33-L31 -> 18425
L35: =+L34/L33 -> 0.26927293
D36: Tilbudt pris | F36: 1734875.9
D38: DG | F38: =(F36-F34)/F36 -> 0.98320361
F40: =+F34*1.25 -> 36424.566
F41: =+F40-F36 -> -1698451.4
F42: =+F40/F36 -> 0.020995487

Sheet Udregning
A1: Item no. | B1: PCS | C1: Description | D1: Long Description | E1: Purchasing Price (€) | F1: Purchasing price (DKK) | G1: DG /Coverage | H1: Buch & Holm List price (DKK) | I1: Discount (%) | J1: Tilbudspris (DKK ex moms) | K1: DG ved tilbudspris (%) | L1: Købspris for linje (DKK) | M1: Listepris for linje | N1: Purchase price for line (€) | O1: Available
A2: N1197700 | B2: 1 | C2: =VLOOKUP(A2,'Distrib. Pricing Only Full'!A:W,3,FALSE) -> SZ61-TR Stereo Microscope Body | D2: =VLOOKUP(A2,'Distrib. Pricing Only Full'!A:W,4,FALSE) -> Trinocular Stereo-Microscope zoom body with ESD capability, magnification range 0.67x - 4.5x, zoom ratio 6.7:1, FN 22, integrated trinocular tube with 45 degrees inclination, incorporates 0.5x c-mount adapter, accepts cameras with a weight of up to 2kg, working distance 110mm, with adjustable upper and lower limit zoom stopper, interpupillary distance adjustment 52-76mm, | E2: =VLOOKUP(A2,'Distrib. Pricing Only Full'!A:W,21,FALSE) -> 1165.32 | F2: =E2*7.5*1.02 -> 8914.698 | G2: 0.4007 | H2: =MROUND(F2*(1/(1-(G2))),5) -> 14875 | I2: 0 | J2: =(H2*((100-I2)/100))*B2 -> 14875 | K2: =(H2*((100-I2)/100)-F2)/(H2*((100-I2)/100))*100 -> 40.069257 | L2: =F2*B2 -> 8914.698 | M2: =H2*B2 -> 14875 | N2: =B2*E2 -> 1165.32 | O2: =VLOOKUP(A2,'Distrib. Pricing Only Full'!A:AA,7,FALSE) -> available
A3: N1199700 | B3: 1 | C3: =VLOOKUP(A3,'Distrib. Pricing Only Full'!A:W,3,FALSE) -> SZ2-ST stand w. ESD capability | D3: =VLOOKUP(A3,'Distrib. Pricing Only Full'!A:W,4,FALSE) -> Stereomicroscope Stand with ESD capability, with grounding sockets, focusing stroke 120mm, to adapt SZ61/51 or SZX7 Zoombodies, load capacity of the focussing arm: 7kg | E3: =VLOOKUP(A3,'Distrib. Pricing Only Full'!A:W,21,FALSE) -> 181.48 | F3: =E3*7.5*1.02 -> 1388.322 | G3: 0.4 | H3: =MROUND(F3*(1/(1-(G3))),5) -> 2315 | I3: 0 | J3: =(H3*((100-I3)/100))*B3 -> 2315 | K3: =(H3*((100-I3)/100)-F3)/(H3*((100-I3)/100))*100 -> 40.029287 | L3: =F3*B3 -> 1388.322 | M3: =H3*B3 -> 2315 | N3: =B3*E3 -> 181.48 | O3: =VLOOKUP(A3,'Distrib. Pricing Only Full'!A:AA,7,FALSE) -> available
A4: 033401 | B4: 1 | C4: =VLOOKUP(A4,'Distrib. Pricing Only Full'!A:W,3,FALSE) -> SP-BW STAGE PLATE BLACK/WHITE | D4: =VLOOKUP(A4,'Distrib. Pricing Only Full'!A:W,4,FALSE) -> Stage plate (black & white) | E4: =VLOOKUP(A4,'Distrib. Pricing Only Full'!A:W,21,FALSE) -> 26.52 | F4: =E4*7.5*1.02 -> 202.878 | G4: 0.4 | H4: =MROUND(F4*(1/(1-(G4))),5) -> 340 | I4: 0 | J4: =(H4*((100-I4)/100))*B4 -> 340 | K4: =(H4*((100-I4)/100)-F4)/(H4*((100-I4)/100))*100 -> 40.33 | L4: =F4*B4 -> 202.878 | M4: =H4*B4 -> 340 | N4: =B4*E4 -> 26.52 | O4: =VLOOKUP(A4,'Distrib. Pricing Only Full'!A:AA,7,FALSE) -> available
A5: E0433093 | B5: 1 | C5: =VLOOKUP(A5,'Distrib. Pricing Only Full'!A:W,3,FALSE) -> KL-RA-SZ ring light adapter | D5: =VLOOKUP(A5,'Distrib. Pricing Only Full'!A:W,4,FALSE) -> Mounting adapter for 66mm ring light guides for SZ, SD, SF stereo zoom bodies, metal ring with M48x0.75 thread | E5: =VLOOKUP(A5,'Distrib. Pricing Only Full'!A:W,21,FALSE) -> 37.5 | F5: =E5*7.5*1.02 -> 286.875 | G5: 0.4 | H5: =MROUND(F5*(1/(1-(G5))),5) -> 480 | I5: 0 | J5: =(H5*((100-I5)/100))*B5 -> 480 | K5: =(H5*((100-I5)/100)-F5)/(H5*((100-I5)/100))*100 -> 40.234375 | L5: =F5*B5 -> 286.875 | M5: =H5*B5 -> 480 | N5: =B5*E5 -> 37.5 | O5: =VLOOKUP(A5,'Distrib. Pricing Only Full'!A:AA,7,FALSE) -> available
A6: E0433265 | B6: 1 | C6: =VLOOKUP(A6,'Distrib. Pricing Only Full'!A:W,3,FALSE) -> KL300LED LED light source | D6: =VLOOKUP(A6,'Distrib. Pricing Only Full'!A:W,4,FALSE) -> LED light source with 1 LED and an average LED lifetime of 50,000 h. Light intensity 30 W â??halogen equivalent. Colour temperature of white LED: Approx. 5600 K, Stepless electronic dimming (0â??100%) light intensity control, max. active light guide diameter: 6 mm, wide range power supply (100â??240 V/50â??60 Hz). One bracket to mount on SZ2-ST, one Power supply, 4 Plug adapters for EU, UK, USA, AUS and Instruction manual are included. | E6: =VLOOKUP(A6,'Distrib. Pricing Only Full'!A:W,21,FALSE) -> 365.25 | F6: =E6*7.5*1.02 -> 2794.1625 | G6: 0.4 | H6: =MROUND(F6*(1/(1-(G6))),5) -> 4655 | I6: 0 | J6: =(H6*((100-I6)/100))*B6 -> 4655 | K6: =(H6*((100-I6)/100)-F6)/(H6*((100-I6)/100))*100 -> 39.975027 | L6: =F6*B6 -> 2794.1625 | M6: =H6*B6 -> 4655 | N6: =B6*E6 -> 365.25 | O6: =VLOOKUP(A6,'Distrib. Pricing Only Full'!A:AA,7,FALSE) -> available
A7: N1198000 | B7: 2 | C7: =VLOOKUP(A7,'Distrib. Pricing Only Full'!A:W,3,FALSE) -> WHSZ10X-H eyepiece | D7: =VLOOKUP(A7,'Distrib. Pricing Only Full'!A:W,4,FALSE) -> Eyepiece 10x with ESD capability, FN22, focusable, with Diopter adjustment -8 to +5, accepts eyepiece reticule: 24mm 1.5mm thickness | E7: =VLOOKUP(A7,'Distrib. Pricing Only Full'!A:W,21,FALSE) -> 78 | F7: =E7*7.5*1.02 -> 596.7 | G7: 0.4 | H7: =MROUND(F7*(1/(1-(G7))),5) -> 995 | I7: 0 | J7: =(H7*((100-I7)/100))*B7 -> 1990 | K7: =(H7*((100-I7)/100)-F7)/(H7*((100-I7)/100))*100 -> 40.030151 | L7: =F7*B7 -> 1193.4 | M7: =H7*B7 -> 1990 | N7: =B7*E7 -> 156 | O7: =VLOOKUP(A7,'Distrib. Pricing Only Full'!A:AA,7,FALSE) -> available
A8: N6797600 | B8: 1 | C8: =VLOOKUP(A8,'Distrib. Pricing Only Full'!A:W,3,FALSE) -> COVER-015 | D8: =VLOOKUP(A8,'Distrib. Pricing Only Full'!A:W,4,FALSE) -> DUST COVER f.CX31/41, CX20 | E8: =VLOOKUP(A8,'Distrib. Pricing Only Full'!A:W,21,FALSE) -> 10.4 | F8: =E8*7.5*1.02 -> 79.56 | G8: 0.4 | H8: =MROUND(F8*(1/(1-(G8))),5) -> 135 | I8: 0 | J8: =(H8*((100-I8)/100))*B8 -> 135 | K8: =(H8*((100-I8)/100)-F8)/(H8*((100-I8)/100))*100 -> 41.066667 | L8: =F8*B8 -> 79.56 | M8: =H8*B8 -> 135 | N8: =B8*E8 -> 10.4 | O8: =VLOOKUP(A8,'Distrib. Pricing Only Full'!A:AA,7,FALSE) -> available
A9: E0433293 | B9: 1 | C9: =VLOOKUP(A9,'Distrib. Pricing Only Full'!A:W,3,FALSE) -> KL300-6PRL-6/1000-2 | D9: =VLOOKUP(A9,'Distrib. Pricing Only Full'!A:W,4,FALSE) -> Brightfield 6-point ring light, for KL300LED, adaptation diameter: 66mm, minimum working distance: 37mm, active diameter: 6mm, flexible length: 1000mm | E9: =VLOOKUP(A9,'Distrib. Pricing Only Full'!A:W,21,FALSE) -> 438 | F9: =E9*7.5*1.02 -> 3350.7 | G9: 0.4 | H9: =MROUND(F9*(1/(1-(G9))),5) -> 5585 | I9: 0 | J9: =(H9*((100-I9)/100))*B9 -> 5585 | K9: =(H9*((100-I9)/100)-F9)/(H9*((100-I9)/100))*100 -> 40.005372 | L9: =F9*B9 -> 3350.7 | M9: =H9*B9 -> 5585 | N9: =B9*E9 -> 438 | O9: =VLOOKUP(A9,'Distrib. Pricing Only Full'!A:AA,7,FALSE) -> available
C10: =VLOOKUP(A10,'Distrib. Pricing Only Full'!A:W,3,FALSE) -> #N/A | D10: =VLOOKUP(A10,'Distrib. Pricing Only Full'!A:W,4,FALSE) -> #N/A | E10: =VLOOKUP(A10,'Distrib. Pricing Only Full'!A:W,21,FALSE) -> #N/A | F10: =E10*7.5*1.02 -> #N/A | G10: 0.4 | H10: =MROUND(F10*(1/(1-(G10))),5) -> #N/A | I10: 0 | J10: =(H10*((100-I10)/100))*B10 -> #N/A | K10: =(H10*((100-I10)/100)-F10)/(H10*((100-I10)/100))*100 -> #N/A | L10: =F10*B10 -> #N/A | M10: =H10*B10 -> #N/A | N10: =B10*E10 -> #N/A | O10: =VLOOKUP(A10,'Distrib. Pricing Only Full'!A:AA,7,FALSE) -> #N/A
C11: =VLOOKUP(A11,'Distrib. Pricing Only Full'!A:W,3,FALSE) -> #N/A | D11: =VLOOKUP(A11,'Distrib. Pricing Only Full'!A:W,4,FALSE) -> #N/A | E11: =VLOOKUP(A11,'Distrib. Pricing Only Full'!A:W,21,FALSE) -> #N/A | F11: =E11*7.5*1.02 -> #N/A | G11: 0.4 | H11: =MROUND(F11*(1/(1-(G11))),5) -> #N/A | I11: 0 | J11: =(H11*((100-I11)/100))*B11 -> #N/A | K11: =(H11*((100-I11)/100)-F11)/(H11*((100-I11)/100))*100 -> #N/A | L11: =F11*B11 -> #N/A | M11: =H11*B11 -> #N/A | N11: =B11*E11 -> #N/A | O11: =VLOOKUP(A11,'Distrib. Pricing Only Full'!A:AA,7,FALSE) -> #N/A
C12: =VLOOKUP(A12,'Distrib. Pricing Only Full'!A:W,3,FALSE) -> #N/A | D12: =VLOOKUP(A12,'Distrib. Pricing Only Full'!A:W,4,FALSE) -> #N/A | E12: =VLOOKUP(A12,'Distrib. Pricing Only Full'!A:W,21,FALSE) -> #N/A | F12: =E12*7.5*1.02 -> #N/A | G12: 0.4 | H12: =MROUND(F12*(1/(1-(G12))),5) -> #N/A | I12: 0 | J12: =(H12*((100-I12)/100))*B12 -> #N/A | K12: =(H12*((100-I12)/100)-F12)/(H12*((100-I12)/100))*100 -> #N/A | L12: =F12*B12 -> #N/A | M12: =H12*B12 -> #N/A | N12: =B12*E12 -> #N/A | O12: =VLOOKUP(A12,'Distrib. Pricing Only Full'!A:AA,7,FALSE) -> #N/A
